BEGIN:VCALENDAR
VERSION:2.0
PRODID:-//Squarespace Inc/Squarespace 6//v6//EN
BEGIN:VEVENT
UID:5dbfde316b4e151dedde7517@squarespace.com
DTSTAMP:20201123T022945Z
DTSTART:20200124T210000Z
DTEND:20200127T080000Z
SUMMARY:Auckland Summer 2020 Shoe Fair Exhibition
GEO:-36.847901;174.765334
LOCATION:CityLife Hotel\, 171 Queen Street\, Auckland\, Auckland\, 1010\, N
 ew Zealand
END:VEVENT
END:VCALENDAR
