BEGIN:VCALENDAR
VERSION:2.0
PRODID:-//Squarespace Inc/Squarespace 6//v6//EN
BEGIN:VEVENT
UID:5fbb1e6ca4ebbd103bcac419@squarespace.com
DTSTAMP:20201123T022938Z
DTSTART:20210212T210000Z
DTEND:20210216T070000Z
SUMMARY:Brisbane Summer 2021 Shoe Fair Exhibition
GEO:-27.468891;153.036788
LOCATION:Bridgewater Apartments\, 55 Baildon Street\, Kangaroo Point\, QLD\
 , 4169\, Australia
END:VEVENT
END:VCALENDAR
