BEGIN:VCALENDAR
VERSION:2.0
PRODID:-//Squarespace Inc/Squarespace 6//v6//EN
BEGIN:VEVENT
UID:5f34ddee31125c5001bf7097@squarespace.com
DTSTAMP:20200813T063350Z
DTSTART:20200821T210000Z
DTEND:20200824T080000Z
SUMMARY:Brisbane Autumn/Winter 2021 Shoe Fair Exhibition
GEO:-27.468891;153.036788
LOCATION:Bridgewater Apartments\, 55 Baildon Street\, Kangaroo Point\, QLD\
 , 4169\, Australia
END:VEVENT
END:VCALENDAR
