BEGIN:VCALENDAR
VERSION:2.0
PRODID:-//Squarespace Inc/Squarespace 6//v6//EN
BEGIN:VEVENT
UID:5dbfdf8d753cb13f2b3edd4a@squarespace.com
DTSTAMP:20201123T022808Z
DTSTART:20200207T210000Z
DTEND:20200210T080000Z
SUMMARY:Melbourne Summer 2020 Shoe Fair Exhibition
GEO:-37.815962;144.971798
LOCATION:Adina Apartment Hotel\, 88 Flinders Street\, Melbourne\, VIC\, 300
 0\, Australia
END:VEVENT
END:VCALENDAR
