BEGIN:VCALENDAR
VERSION:2.0
PRODID:-//Squarespace Inc/Squarespace 6//v6//EN
BEGIN:VEVENT
UID:5dbfdf2cf939d446c0b3646d@squarespace.com
DTSTAMP:20200107T060936Z
DTSTART:20200131T210000Z
DTEND:20200203T080000Z
SUMMARY:Sydney Summer 2020 Shoe Fair Exhibition
GEO:-33.884127;151.213978
LOCATION:Adina Apartment Hotel\, 359 Crown Street\, Surry Hills\, NSW\, 201
 0\, Australia
END:VEVENT
END:VCALENDAR
